BEGIN:VCALENDAR
VERSION:2.0
PRODID:-//wp-events-plugin.com//6.6.3//EN
TZID:Europe/Berlin
X-WR-TIMEZONE:Europe/Berlin
BEGIN:VEVENT
UID:649@gsk-valley.de
DTSTART;TZID=Europe/Berlin:20251224T083000
DTEND;TZID=Europe/Berlin:20251224T083000
DTSTAMP:20250226T174406Z
URL:https://www.gsk-valley.de/termine/1009/
SUMMARY:GEDENKFEIER SENDLINGER MORDWEIHNACHT 1705
DESCRIPTION:\n 	GEDENKFEIER SENDLINGER MORDWEIHNACHT 1705 in Waakirchen\n 	
 GSK Valley rückt mit Standarte und in Montur mit Waffen aus. Hutschmuck\n
  	Aufstellung beim "Christlwirt" in Waakirchen\n
LOCATION:Christlwirt\, -\, Waakirchen\, Deutschland
X-APPLE-STRUCTURED-LOCATION;VALUE=URI;X-ADDRESS=-\, Waakirchen\, Deutschlan
 d;X-APPLE-RADIUS=100;X-TITLE=Christlwirt:geo:0,0
END:VEVENT
BEGIN:VTIMEZONE
TZID:Europe/Berlin
X-LIC-LOCATION:Europe/Berlin
BEGIN:STANDARD
DTSTART:20251026T020000
TZOFFSETFROM:+0200
TZOFFSETTO:+0100
TZNAME:CET
END:STANDARD
END:VTIMEZONE
END:VCALENDAR