BEGIN:VCALENDAR
VERSION:2.0
PRODID:-//wp-events-plugin.com//6.6.3//EN
TZID:Europe/Berlin
X-WR-TIMEZONE:Europe/Berlin
BEGIN:VEVENT
UID:682@gsk-valley.de
DTSTART;TZID=Europe/Berlin:20260516T153000
DTEND;TZID=Europe/Berlin:20260516T153000
DTSTAMP:20260310T173353Z
URL:https://www.gsk-valley.de/termine/600-jaehriges-gruendungsjubilaeum-de
 r-st-isidor-und-notburga-bruderschaft-zu-muenchen/
SUMMARY:600-Jähriges Gründungsjubiläum der St. Isidor und Notburga-Brude
 rschaft zu München
DESCRIPTION:GSK Valley stellt die bewaffnete Schutz- und Ehrengeleit für d
 en spanischen Bischof Martinez Camino\, SJ bei der Reliqiemüberführung\n
 Teilnahme an der Prozession von der Allerheiligenkirche am Kreuz zur Kirch
 e St. Peter mit anschließender Messe\nMindestens 12 Mann!!\n\nDatum/Zeit\
 nAbfahrt Parkplatz Schloßwiese Valley mit Kleinbussen nach München am 16
 .05.2026 um 15:30 Uhr\n\nAusrücken in Montur mit Waffen und Hutschmuck bu
 nt\, Fahnenabordnung
LOCATION:St. Peter Kirche\, Petersplatz\, München\, Deutschland
X-APPLE-STRUCTURED-LOCATION;VALUE=URI;X-ADDRESS=Petersplatz\, München\, De
 utschland;X-APPLE-RADIUS=100;X-TITLE=St. Peter Kirche:geo:0,0
END:VEVENT
BEGIN:VTIMEZONE
TZID:Europe/Berlin
X-LIC-LOCATION:Europe/Berlin
BEGIN:DAYLIGHT
DTSTART:20260329T030000
TZOFFSETFROM:+0100
TZOFFSETTO:+0200
TZNAME:CEST
END:DAYLIGHT
END:VTIMEZONE
END:VCALENDAR