BEGIN:VCALENDAR
VERSION:2.0
PRODID:-//wp-events-plugin.com//6.6.3//EN
TZID:Europe/Berlin
X-WR-TIMEZONE:Europe/Berlin
BEGIN:VEVENT
UID:658@gsk-valley.de
DTSTART;TZID=Europe/Berlin:20260406T083000
DTEND;TZID=Europe/Berlin:20260406T180000
DTSTAMP:20260108T161959Z
URL:https://www.gsk-valley.de/termine/jahrtag-gsk-elbach/
SUMMARY:Jahrtag GSK-Elbach
DESCRIPTION:
LOCATION:Gasthof Sonnenkaiser\, Leitzachtalstraße 116\, Fischbachau\, Deut
 schland
X-APPLE-STRUCTURED-LOCATION;VALUE=URI;X-ADDRESS=Leitzachtalstraße 116\, Fi
 schbachau\, Deutschland;X-APPLE-RADIUS=100;X-TITLE=Gasthof Sonnenkaiser:ge
 o:0,0
END:VEVENT
BEGIN:VTIMEZONE
TZID:Europe/Berlin
X-LIC-LOCATION:Europe/Berlin
BEGIN:DAYLIGHT
DTSTART:20260329T030000
TZOFFSETFROM:+0100
TZOFFSETTO:+0200
TZNAME:CEST
END:DAYLIGHT
END:VTIMEZONE
END:VCALENDAR