BEGIN:VCALENDAR
VERSION:2.0
PRODID:-//wp-events-plugin.com//6.6.3//EN
TZID:Europe/Berlin
X-WR-TIMEZONE:Europe/Berlin
BEGIN:VEVENT
UID:671@gsk-valley.de
DTSTART;TZID=Europe/Berlin:20260830T093000
DTEND;TZID=Europe/Berlin:20260830T160000
DTSTAMP:20260108T171217Z
URL:https://www.gsk-valley.de/termine/jahrtag-gsk-gotzinger-trommel-2/
SUMMARY:Jahrtag GSK-Gotzinger Trommel
DESCRIPTION:
LOCATION:Neukirchen\, -\, Neukirchen\, Deutschland
X-APPLE-STRUCTURED-LOCATION;VALUE=URI;X-ADDRESS=-\, Neukirchen\, Deutschlan
 d;X-APPLE-RADIUS=100;X-TITLE=Neukirchen:geo:0,0
END:VEVENT
BEGIN:VTIMEZONE
TZID:Europe/Berlin
X-LIC-LOCATION:Europe/Berlin
BEGIN:DAYLIGHT
DTSTART:20260329T030000
TZOFFSETFROM:+0100
TZOFFSETTO:+0200
TZNAME:CEST
END:DAYLIGHT
END:VTIMEZONE
END:VCALENDAR