BEGIN:VCALENDAR
VERSION:2.0
PRODID:-//wp-events-plugin.com//6.6.3//EN
TZID:Europe/Berlin
X-WR-TIMEZONE:Europe/Berlin
BEGIN:VEVENT
UID:673@gsk-valley.de
DTSTART;TZID=Europe/Berlin:20261010T150000
DTEND;TZID=Europe/Berlin:20261010T220000
DTSTAMP:20260108T171736Z
URL:https://www.gsk-valley.de/termine/jahrtag-gsk-tegernsee-2/
SUMMARY:Jahrtag GSK-Tegernsee
DESCRIPTION:
LOCATION:Zentralparkplatz\, -\, Rottach-Egern\, Deutschland
X-APPLE-STRUCTURED-LOCATION;VALUE=URI;X-ADDRESS=-\, Rottach-Egern\, Deutsch
 land;X-APPLE-RADIUS=100;X-TITLE=Zentralparkplatz:geo:0,0
END:VEVENT
BEGIN:VTIMEZONE
TZID:Europe/Berlin
X-LIC-LOCATION:Europe/Berlin
BEGIN:DAYLIGHT
DTSTART:20260329T030000
TZOFFSETFROM:+0100
TZOFFSETTO:+0200
TZNAME:CEST
END:DAYLIGHT
END:VTIMEZONE
END:VCALENDAR