BEGIN:VCALENDAR
VERSION:2.0
PRODID:-//wp-events-plugin.com//6.6.3//EN
TZID:Europe/Berlin
X-WR-TIMEZONE:Europe/Berlin
BEGIN:VEVENT
UID:666@gsk-valley.de
DTSTART;TZID=Europe/Berlin:20260614T095000
DTEND;TZID=Europe/Berlin:20260614T160000
DTSTAMP:20260108T165716Z
URL:https://www.gsk-valley.de/termine/jahrtag-gsk-valley/
SUMMARY:Jahrtag GSK-Valley
DESCRIPTION:\n 	Aufstellung Kirchenzug am Parkplatz Schloßwiese Valley\n 	
 Montur+Waffen\n 	Gesamte Kompanie mit Marketenderinnen + Trommler rücken 
 aus!\n
LOCATION:Parkplatz Schloßwiese\, Graf-Arco-Str. 19\, Valley\, 83626\, Deut
 schland
X-APPLE-STRUCTURED-LOCATION;VALUE=URI;X-ADDRESS=Graf-Arco-Str. 19\, Valley\
 , 83626\, Deutschland;X-APPLE-RADIUS=100;X-TITLE=Parkplatz Schloßwiese:ge
 o:0,0
END:VEVENT
BEGIN:VTIMEZONE
TZID:Europe/Berlin
X-LIC-LOCATION:Europe/Berlin
BEGIN:DAYLIGHT
DTSTART:20260329T030000
TZOFFSETFROM:+0100
TZOFFSETTO:+0200
TZNAME:CEST
END:DAYLIGHT
END:VTIMEZONE
END:VCALENDAR