BEGIN:VCALENDAR
VERSION:2.0
PRODID:-//wp-events-plugin.com//6.6.3//EN
TZID:Europe/Berlin
X-WR-TIMEZONE:Europe/Berlin
BEGIN:VEVENT
UID:679@gsk-valley.de
DTSTART;TZID=Europe/Berlin:20260306T180000
DTEND;TZID=Europe/Berlin:20260306T220000
DTSTAMP:20260112T162130Z
URL:https://www.gsk-valley.de/termine/siegerehrung-koenigs-und-kompaniesch
 iessen/
SUMMARY:Siegerehrung Königs- und Kompanieschießen
DESCRIPTION:
LOCATION:Bräustüberl\, Graf-Arco-Str. 28\, Valley\, 83626\, Deutschland
X-APPLE-STRUCTURED-LOCATION;VALUE=URI;X-ADDRESS=Graf-Arco-Str. 28\, Valley\
 , 83626\, Deutschland;X-APPLE-RADIUS=100;X-TITLE=Bräustüberl:geo:0,0
END:VEVENT
BEGIN:VTIMEZONE
TZID:Europe/Berlin
X-LIC-LOCATION:Europe/Berlin
BEGIN:STANDARD
DTSTART:20251026T020000
TZOFFSETFROM:+0200
TZOFFSETTO:+0100
TZNAME:CET
END:STANDARD
END:VTIMEZONE
END:VCALENDAR