BEGIN:VCALENDAR
VERSION:2.0
PRODID:-//wp-events-plugin.com//6.6.3//EN
TZID:Europe/Berlin
X-WR-TIMEZONE:Europe/Berlin
BEGIN:VEVENT
UID:681@gsk-valley.de
DTSTART;TZID=Europe/Berlin:20260927T081500
DTEND;TZID=Europe/Berlin:20260927T160000
DTSTAMP:20260307T123628Z
URL:https://www.gsk-valley.de/termine/vereinsjahrtag-bei-unserer-patenkomp
 anie-gsk-raubling/
SUMMARY:Vereinsjahrtag bei unserer Patenkompanie - GSK Raubling
DESCRIPTION:Datum/Zeit\nAbfahrt Parkplatz Schloßwiese Valley\nSonntag\, 27
 .09.2026 um 08:15 Uhr\n\nVeranstaltungsort\nHuberwirt Raubling\nAbmarsch z
 um Kirchenzug beim Huberwirt\n09:20 Uhr Treffpunkt beim „Huberwirt”\n0
 9:40 Uhr Abmarsch zur Kirche\n10:00 Uhr Hl. Messe\nanschl. Totengedenken n
 ach dem Gottesdienst am Kriegerdenkmal mit Ehrensalut durch die GSK Raubli
 ng\n\nAnschließend Einkehr beim Huberwirt.\nMontur mit Waffen und Hutschm
 uck bunt
LOCATION:Huberwirt\, Steinstr. 13\, Raubling\, Bayern\, 83064\, Deutschland
X-APPLE-STRUCTURED-LOCATION;VALUE=URI;X-ADDRESS=Steinstr. 13\, Raubling\, B
 ayern\, 83064\, Deutschland;X-APPLE-RADIUS=100;X-TITLE=Huberwirt:geo:0,0
END:VEVENT
BEGIN:VTIMEZONE
TZID:Europe/Berlin
X-LIC-LOCATION:Europe/Berlin
BEGIN:DAYLIGHT
DTSTART:20260329T030000
TZOFFSETFROM:+0100
TZOFFSETTO:+0200
TZNAME:CEST
END:DAYLIGHT
END:VTIMEZONE
END:VCALENDAR