BEGIN:VCALENDAR
VERSION:2.0
PRODID:-//wp-events-plugin.com//6.6.3//EN
TZID:Europe/Berlin
X-WR-TIMEZONE:Europe/Berlin
BEGIN:VEVENT
UID:675@gsk-valley.de
DTSTART;TZID=Europe/Berlin:20261122T100000
DTEND;TZID=Europe/Berlin:20261122T160000
DTSTAMP:20260108T172132Z
URL:https://www.gsk-valley.de/termine/volkstrauertag-2/
SUMMARY:Volkstrauertag
DESCRIPTION:
LOCATION:Oberdarching\, -\, Oberdarching\, Deutschland
X-APPLE-STRUCTURED-LOCATION;VALUE=URI;X-ADDRESS=-\, Oberdarching\, Deutschl
 and;X-APPLE-RADIUS=100;X-TITLE=Oberdarching:geo:0,0
END:VEVENT
BEGIN:VTIMEZONE
TZID:Europe/Berlin
X-LIC-LOCATION:Europe/Berlin
BEGIN:STANDARD
DTSTART:20261025T020000
TZOFFSETFROM:+0200
TZOFFSETTO:+0100
TZNAME:CET
END:STANDARD
END:VTIMEZONE
END:VCALENDAR